BEGIN:VCALENDAR
VERSION:2.0
PRODID:-//Winter Park Day Nursery - ECPv5.1.0//NONSGML v1.0//EN
CALSCALE:GREGORIAN
METHOD:PUBLISH
X-WR-CALNAME:Winter Park Day Nursery
X-ORIGINAL-URL:https://winterparkdaynursery.org
X-WR-CALDESC:Events for Winter Park Day Nursery
BEGIN:VTIMEZONE
TZID:America/New_York
BEGIN:DAYLIGHT
TZOFFSETFROM:-0500
TZOFFSETTO:-0400
TZNAME:EDT
DTSTART:20180311T070000
END:DAYLIGHT
BEGIN:STANDARD
TZOFFSETFROM:-0400
TZOFFSETTO:-0500
TZNAME:EST
DTSTART:20181104T060000
END:STANDARD
END:VTIMEZONE
BEGIN:VEVENT
DTSTART;TZID=America/New_York:20180316T183000
DTEND;TZID=America/New_York:20180316T220000
DTSTAMP:20260424T192802
CREATED:20160913T120014Z
LAST-MODIFIED:20170921T193605Z
UID:296-1521225000-1521237600@winterparkdaynursery.org
SUMMARY:Orange Blossom Jubilee
DESCRIPTION:\nAuction Donation Form\nSponsorship Packages\n  \nFRIDAY\, MARCH 16\, 2018 6:30pm – 10:00pm \nORLANDO MUSEUM OF ART2416 N Mills Ave\, Orlando\, FL 32803 \nPROGRAM HOST Scott Maxwell\, Columnist at Orlando Sentinel \n17TH ANNUAL ORANGE BLOSSOM JUBILEE Food Stations\, Silent Auction\, Live Artist \nTickets $100 per person • Cocktail Attire \n \n  \n  \n  \n
URL:https://winterparkdaynursery.org/calendar-event/obj/
LOCATION:Orlando Museum of Art\, 2416 N Mills Ave\, Orlando\, FL\, United States
CATEGORIES:Fundraisers
END:VEVENT
END:VCALENDAR